BEGIN:VCALENDAR
VERSION:2.0
PRODID:-//SASS Portal - ECPv6.0.4//NONSGML v1.0//EN
CALSCALE:GREGORIAN
METHOD:PUBLISH
X-ORIGINAL-URL:https://portal.sassk.ca
X-WR-CALDESC:Events for SASS Portal
REFRESH-INTERVAL;VALUE=DURATION:PT1H
X-Robots-Tag:noindex
X-PUBLISHED-TTL:PT1H
BEGIN:VTIMEZONE
TZID:America/Regina
BEGIN:STANDARD
TZOFFSETFROM:-0600
TZOFFSETTO:-0600
TZNAME:CST
DTSTART:20230101T000000
END:STANDARD
END:VTIMEZONE
BEGIN:VEVENT
DTSTART;TZID=America/Regina:20230130T200000
DTEND;TZID=America/Regina:20230130T213000
DTSTAMP:20260420T044828
CREATED:20230125T152712Z
LAST-MODIFIED:20230125T152712Z
UID:10000521-1675108800-1675114200@portal.sassk.ca
SUMMARY:Global Social Witnessing : Women\, Life and Freedom
DESCRIPTION:*Please note this event is available in English\, German\, and Ukrainian and will start  at 1:00 pm CST* \nThe topic we will discuss: Outrage and Protests in Iran
URL:https://portal.sassk.ca/event/global-social-witnessing-women-life-and-freedom/
LOCATION:Online Webinar
ATTACH;FMTTYPE=image/jpeg:https://portal.sassk.ca/wp-content/uploads/2023/01/shutterstock_2208117675-2.jpg
END:VEVENT
END:VCALENDAR