BEGIN:VCALENDAR
VERSION:2.0
PRODID:-//SASS Portal - ECPv6.0.4//NONSGML v1.0//EN
CALSCALE:GREGORIAN
METHOD:PUBLISH
X-WR-CALNAME:SASS Portal
X-ORIGINAL-URL:https://portal.sassk.ca
X-WR-CALDESC:Events for SASS Portal
REFRESH-INTERVAL;VALUE=DURATION:PT1H
X-Robots-Tag:noindex
X-PUBLISHED-TTL:PT1H
BEGIN:VTIMEZONE
TZID:America/Regina
BEGIN:STANDARD
TZOFFSETFROM:-0600
TZOFFSETTO:-0600
TZNAME:CST
DTSTART:20220101T000000
END:STANDARD
END:VTIMEZONE
BEGIN:VEVENT
DTSTART;VALUE=DATE:20221001
DTEND;VALUE=DATE:20221101
DTSTAMP:20260420T140651
CREATED:20220908T221916Z
LAST-MODIFIED:20221214T161119Z
UID:10000035-1664582400-1667260799@portal.sassk.ca
SUMMARY:Child Abuse Prevention Month
DESCRIPTION:Child Abuse Awareness Month creates awareness in the community and encourages people to stand up for those who are unable to speak for themselves.
URL:https://portal.sassk.ca/event/child-abuse-awareness-month/
ATTACH;FMTTYPE=image/png:https://portal.sassk.ca/wp-content/uploads/2022/09/childabuse.png
END:VEVENT
END:VCALENDAR