BEGIN:VCALENDAR
VERSION:2.0
PRODID:-//SASS Portal - ECPv6.0.4//NONSGML v1.0//EN
CALSCALE:GREGORIAN
METHOD:PUBLISH
X-ORIGINAL-URL:https://portal.sassk.ca
X-WR-CALDESC:Events for SASS Portal
REFRESH-INTERVAL;VALUE=DURATION:PT1H
X-Robots-Tag:noindex
X-PUBLISHED-TTL:PT1H
BEGIN:VTIMEZONE
TZID:America/Regina
BEGIN:STANDARD
TZOFFSETFROM:-0600
TZOFFSETTO:-0600
TZNAME:CST
DTSTART:20230101T000000
END:STANDARD
END:VTIMEZONE
BEGIN:VEVENT
DTSTART;TZID=America/Regina:20230223T170000
DTEND;TZID=America/Regina:20230223T180000
DTSTAMP:20260420T043700
CREATED:20230131T200207Z
LAST-MODIFIED:20230131T200207Z
UID:10000542-1677171600-1677175200@portal.sassk.ca
SUMMARY:"Ask an Expert" Parenting and Sexualized Behavior Support conversation
DESCRIPTION:Join us for an informal session with our Child Therapist. Learn information related to parenting and supporting children and youth who display concerning sexualized behaviours. \nOR maybe you want to join us to discuss a situation or behaviour your child is engaging in and get some advice on what is developmentally appropriate\, how to support and respond etc. \nOur expert can give a short overview of the sexualized behaviour program and frequent concerns and conversations\, leaving us with plenty of time for participants to privately and publicly ask questions and join in discussion with our clinical expert. \nChildren and youth develop in many ways\, but lots of things might affect a child’s/youth’s sexual development\, leading to some concerning sexual behaviour. Sexual behaviours may become a problem if they are harmful to the child/youth or others\, occur between children/youth of very different ages or developmental levels\, or take the place of typical childhood activities. \nCASASC believes that concerning sexual behaviour can serve a number of functions for children and youth\, so understanding the behaviour and how and why it is occurring is important. Sexual behaviour concerns\, or sexually acting out\, looks very different for different people. \nRegistration is required only so we can share access to the session with you\, you may remain anonymous in the session itself by keeping your screen turned off and having a different zoom name.
URL:https://portal.sassk.ca/event/ask-an-expert-parenting-and-sexualized-behavior-support-conversation/
LOCATION:Online Webinar
ATTACH;FMTTYPE=image/jpeg:https://portal.sassk.ca/wp-content/uploads/2023/01/https___cdn.evbuc_.com_images_254591639_145966593510_1_original.jpg
END:VEVENT
BEGIN:VEVENT
DTSTART;TZID=America/Regina:20230207T180000
DTEND;TZID=America/Regina:20230207T180000
DTSTAMP:20260420T043700
CREATED:20230131T195333Z
LAST-MODIFIED:20230131T195333Z
UID:10000541-1675792800-1675792800@portal.sassk.ca
SUMMARY:What happens on a 24/7 Sexual Violence Help Line?
DESCRIPTION:*Please note this event starts at 7:00 pm CST* \nJoin us for an informal session about operating and volunteering on a 24/7 Sexual Violence Helpline. \nSupported by volunteers with the Central Alberta Sexual Assault Support Centre\, and available by phone\, text and webchat to anyone in Alberta\, Canada. The help line provides support to anyone impacted by Sexual Violence (direct or indirect) and is a resourcing and support service. \nUse this opportunity to learn about the helpline and how you can utilize it in your community/workplace. Hear what it takes to volunteer on a help line. Help us share this free resource out to our Alberta community. We are here for you\, we care!
URL:https://portal.sassk.ca/event/what-happens-on-a-24-7-sexual-violence-help-line/
LOCATION:Online Webinar
ATTACH;FMTTYPE=image/jpeg:https://portal.sassk.ca/wp-content/uploads/2023/01/https___cdn.evbuc_.com_images_324233139_145966593510_1_original.jpg
END:VEVENT
BEGIN:VEVENT
DTSTART;TZID=America/Regina:20230127T120000
DTEND;TZID=America/Regina:20230127T130000
DTSTAMP:20260420T043700
CREATED:20230123T171329Z
LAST-MODIFIED:20230125T172108Z
UID:10000510-1674820800-1674824400@portal.sassk.ca
SUMMARY:Supporting Disclosures of Sexual Violence
DESCRIPTION:*Please note that this a reoccurring event. Check the website for the next upcoming dates and more detailed information* \nFacilitated by the Central Alberta Sexual Assault Support Centre’s education program. This session will help to enhance your skills and knowledge around supporting disclosures of sexual violence. \nWe will cover an overview of the fundamentals of responding to and supporting disclosure of sexual assault and abuse from children\, youth and adults. You’ll learn some key messages and legal obligations when it comes to reporting child abuse. \nWalk away empowered to support those who may choose to share a disclosure of sexual violence with you\, know key messages to share and how to connect individuals with resources.
URL:https://portal.sassk.ca/event/supporting-disclosures-of-sexual-violence/
LOCATION:Online Webinar
ATTACH;FMTTYPE=image/jpeg:https://portal.sassk.ca/wp-content/uploads/2023/01/Support.jpg
END:VEVENT
END:VCALENDAR