BEGIN:VCALENDAR
VERSION:2.0
PRODID:-//SASS Portal - ECPv6.0.4//NONSGML v1.0//EN
CALSCALE:GREGORIAN
METHOD:PUBLISH
X-WR-CALNAME:SASS Portal
X-ORIGINAL-URL:https://portal.sassk.ca
X-WR-CALDESC:Events for SASS Portal
REFRESH-INTERVAL;VALUE=DURATION:PT1H
X-Robots-Tag:noindex
X-PUBLISHED-TTL:PT1H
BEGIN:VTIMEZONE
TZID:America/Regina
BEGIN:STANDARD
TZOFFSETFROM:-0600
TZOFFSETTO:-0600
TZNAME:CST
DTSTART:20230101T000000
END:STANDARD
END:VTIMEZONE
BEGIN:VEVENT
DTSTART;TZID=America/Regina:20231221T183000
DTEND;TZID=America/Regina:20231221T200000
DTSTAMP:20260420T100324
CREATED:20221208T212622Z
LAST-MODIFIED:20221208T212622Z
UID:10000499-1703183400-1703188800@portal.sassk.ca
SUMMARY:Soul-Full Domestic Violence Support Group
DESCRIPTION:-Allowing survivors to connect with each other and decrease isolation \n-Empowering survivors with validation\, increased self-esteem and coping tools \n-Decreasing feelings of stigma and shame by offering hope and healing \n  \nFor additional information and specific location\, call the Envision office in Estevan at (306) 637-4004
URL:https://portal.sassk.ca/event/soul-full-domestic-violence-support-group/2023-12-21/
ATTACH;FMTTYPE=image/jpeg:https://portal.sassk.ca/wp-content/uploads/2022/12/1dfad7f9-ea4c-7959-a70a-d3486b182566.jpg
END:VEVENT
BEGIN:VEVENT
DTSTART;TZID=America/Regina:20231214T183000
DTEND;TZID=America/Regina:20231214T200000
DTSTAMP:20260420T100324
CREATED:20221208T212622Z
LAST-MODIFIED:20221208T212622Z
UID:10000498-1702578600-1702584000@portal.sassk.ca
SUMMARY:Soul-Full Domestic Violence Support Group
DESCRIPTION:-Allowing survivors to connect with each other and decrease isolation \n-Empowering survivors with validation\, increased self-esteem and coping tools \n-Decreasing feelings of stigma and shame by offering hope and healing \n  \nFor additional information and specific location\, call the Envision office in Estevan at (306) 637-4004
URL:https://portal.sassk.ca/event/soul-full-domestic-violence-support-group/2023-12-14/
ATTACH;FMTTYPE=image/jpeg:https://portal.sassk.ca/wp-content/uploads/2022/12/1dfad7f9-ea4c-7959-a70a-d3486b182566.jpg
END:VEVENT
BEGIN:VEVENT
DTSTART;TZID=America/Regina:20231207T183000
DTEND;TZID=America/Regina:20231207T200000
DTSTAMP:20260420T100324
CREATED:20221208T212622Z
LAST-MODIFIED:20221208T212622Z
UID:10000497-1701973800-1701979200@portal.sassk.ca
SUMMARY:Soul-Full Domestic Violence Support Group
DESCRIPTION:-Allowing survivors to connect with each other and decrease isolation \n-Empowering survivors with validation\, increased self-esteem and coping tools \n-Decreasing feelings of stigma and shame by offering hope and healing \n  \nFor additional information and specific location\, call the Envision office in Estevan at (306) 637-4004
URL:https://portal.sassk.ca/event/soul-full-domestic-violence-support-group/2023-12-07/
ATTACH;FMTTYPE=image/jpeg:https://portal.sassk.ca/wp-content/uploads/2022/12/1dfad7f9-ea4c-7959-a70a-d3486b182566.jpg
END:VEVENT
BEGIN:VEVENT
DTSTART;TZID=America/Regina:20231130T183000
DTEND;TZID=America/Regina:20231130T200000
DTSTAMP:20260420T100324
CREATED:20221208T212622Z
LAST-MODIFIED:20221208T212622Z
UID:10000496-1701369000-1701374400@portal.sassk.ca
SUMMARY:Soul-Full Domestic Violence Support Group
DESCRIPTION:-Allowing survivors to connect with each other and decrease isolation \n-Empowering survivors with validation\, increased self-esteem and coping tools \n-Decreasing feelings of stigma and shame by offering hope and healing \n  \nFor additional information and specific location\, call the Envision office in Estevan at (306) 637-4004
URL:https://portal.sassk.ca/event/soul-full-domestic-violence-support-group/2023-11-30/
ATTACH;FMTTYPE=image/jpeg:https://portal.sassk.ca/wp-content/uploads/2022/12/1dfad7f9-ea4c-7959-a70a-d3486b182566.jpg
END:VEVENT
BEGIN:VEVENT
DTSTART;TZID=America/Regina:20231123T183000
DTEND;TZID=America/Regina:20231123T200000
DTSTAMP:20260420T100324
CREATED:20221208T212622Z
LAST-MODIFIED:20221208T212622Z
UID:10000495-1700764200-1700769600@portal.sassk.ca
SUMMARY:Soul-Full Domestic Violence Support Group
DESCRIPTION:-Allowing survivors to connect with each other and decrease isolation \n-Empowering survivors with validation\, increased self-esteem and coping tools \n-Decreasing feelings of stigma and shame by offering hope and healing \n  \nFor additional information and specific location\, call the Envision office in Estevan at (306) 637-4004
URL:https://portal.sassk.ca/event/soul-full-domestic-violence-support-group/2023-11-23/
ATTACH;FMTTYPE=image/jpeg:https://portal.sassk.ca/wp-content/uploads/2022/12/1dfad7f9-ea4c-7959-a70a-d3486b182566.jpg
END:VEVENT
BEGIN:VEVENT
DTSTART;TZID=America/Regina:20231116T183000
DTEND;TZID=America/Regina:20231116T200000
DTSTAMP:20260420T100324
CREATED:20221208T212622Z
LAST-MODIFIED:20221208T212622Z
UID:10000494-1700159400-1700164800@portal.sassk.ca
SUMMARY:Soul-Full Domestic Violence Support Group
DESCRIPTION:-Allowing survivors to connect with each other and decrease isolation \n-Empowering survivors with validation\, increased self-esteem and coping tools \n-Decreasing feelings of stigma and shame by offering hope and healing \n  \nFor additional information and specific location\, call the Envision office in Estevan at (306) 637-4004
URL:https://portal.sassk.ca/event/soul-full-domestic-violence-support-group/2023-11-16/
ATTACH;FMTTYPE=image/jpeg:https://portal.sassk.ca/wp-content/uploads/2022/12/1dfad7f9-ea4c-7959-a70a-d3486b182566.jpg
END:VEVENT
BEGIN:VEVENT
DTSTART;TZID=America/Regina:20231109T183000
DTEND;TZID=America/Regina:20231109T200000
DTSTAMP:20260420T100324
CREATED:20221208T212622Z
LAST-MODIFIED:20221208T212622Z
UID:10000493-1699554600-1699560000@portal.sassk.ca
SUMMARY:Soul-Full Domestic Violence Support Group
DESCRIPTION:-Allowing survivors to connect with each other and decrease isolation \n-Empowering survivors with validation\, increased self-esteem and coping tools \n-Decreasing feelings of stigma and shame by offering hope and healing \n  \nFor additional information and specific location\, call the Envision office in Estevan at (306) 637-4004
URL:https://portal.sassk.ca/event/soul-full-domestic-violence-support-group/2023-11-09/
ATTACH;FMTTYPE=image/jpeg:https://portal.sassk.ca/wp-content/uploads/2022/12/1dfad7f9-ea4c-7959-a70a-d3486b182566.jpg
END:VEVENT
BEGIN:VEVENT
DTSTART;TZID=America/Regina:20231102T183000
DTEND;TZID=America/Regina:20231102T200000
DTSTAMP:20260420T100324
CREATED:20221208T212622Z
LAST-MODIFIED:20221208T212622Z
UID:10000492-1698949800-1698955200@portal.sassk.ca
SUMMARY:Soul-Full Domestic Violence Support Group
DESCRIPTION:-Allowing survivors to connect with each other and decrease isolation \n-Empowering survivors with validation\, increased self-esteem and coping tools \n-Decreasing feelings of stigma and shame by offering hope and healing \n  \nFor additional information and specific location\, call the Envision office in Estevan at (306) 637-4004
URL:https://portal.sassk.ca/event/soul-full-domestic-violence-support-group/2023-11-02/
ATTACH;FMTTYPE=image/jpeg:https://portal.sassk.ca/wp-content/uploads/2022/12/1dfad7f9-ea4c-7959-a70a-d3486b182566.jpg
END:VEVENT
BEGIN:VEVENT
DTSTART;TZID=America/Regina:20231026T183000
DTEND;TZID=America/Regina:20231026T200000
DTSTAMP:20260420T100324
CREATED:20221208T212622Z
LAST-MODIFIED:20221208T212622Z
UID:10000491-1698345000-1698350400@portal.sassk.ca
SUMMARY:Soul-Full Domestic Violence Support Group
DESCRIPTION:-Allowing survivors to connect with each other and decrease isolation \n-Empowering survivors with validation\, increased self-esteem and coping tools \n-Decreasing feelings of stigma and shame by offering hope and healing \n  \nFor additional information and specific location\, call the Envision office in Estevan at (306) 637-4004
URL:https://portal.sassk.ca/event/soul-full-domestic-violence-support-group/2023-10-26/
ATTACH;FMTTYPE=image/jpeg:https://portal.sassk.ca/wp-content/uploads/2022/12/1dfad7f9-ea4c-7959-a70a-d3486b182566.jpg
END:VEVENT
BEGIN:VEVENT
DTSTART;TZID=America/Regina:20231019T183000
DTEND;TZID=America/Regina:20231019T200000
DTSTAMP:20260420T100324
CREATED:20221208T212622Z
LAST-MODIFIED:20221208T212622Z
UID:10000490-1697740200-1697745600@portal.sassk.ca
SUMMARY:Soul-Full Domestic Violence Support Group
DESCRIPTION:-Allowing survivors to connect with each other and decrease isolation \n-Empowering survivors with validation\, increased self-esteem and coping tools \n-Decreasing feelings of stigma and shame by offering hope and healing \n  \nFor additional information and specific location\, call the Envision office in Estevan at (306) 637-4004
URL:https://portal.sassk.ca/event/soul-full-domestic-violence-support-group/2023-10-19/
ATTACH;FMTTYPE=image/jpeg:https://portal.sassk.ca/wp-content/uploads/2022/12/1dfad7f9-ea4c-7959-a70a-d3486b182566.jpg
END:VEVENT
BEGIN:VEVENT
DTSTART;TZID=America/Regina:20231012T183000
DTEND;TZID=America/Regina:20231012T200000
DTSTAMP:20260420T100324
CREATED:20221208T212622Z
LAST-MODIFIED:20221208T212622Z
UID:10000489-1697135400-1697140800@portal.sassk.ca
SUMMARY:Soul-Full Domestic Violence Support Group
DESCRIPTION:-Allowing survivors to connect with each other and decrease isolation \n-Empowering survivors with validation\, increased self-esteem and coping tools \n-Decreasing feelings of stigma and shame by offering hope and healing \n  \nFor additional information and specific location\, call the Envision office in Estevan at (306) 637-4004
URL:https://portal.sassk.ca/event/soul-full-domestic-violence-support-group/2023-10-12/
ATTACH;FMTTYPE=image/jpeg:https://portal.sassk.ca/wp-content/uploads/2022/12/1dfad7f9-ea4c-7959-a70a-d3486b182566.jpg
END:VEVENT
BEGIN:VEVENT
DTSTART;TZID=America/Regina:20231005T183000
DTEND;TZID=America/Regina:20231005T200000
DTSTAMP:20260420T100324
CREATED:20221208T212622Z
LAST-MODIFIED:20221208T212622Z
UID:10000488-1696530600-1696536000@portal.sassk.ca
SUMMARY:Soul-Full Domestic Violence Support Group
DESCRIPTION:-Allowing survivors to connect with each other and decrease isolation \n-Empowering survivors with validation\, increased self-esteem and coping tools \n-Decreasing feelings of stigma and shame by offering hope and healing \n  \nFor additional information and specific location\, call the Envision office in Estevan at (306) 637-4004
URL:https://portal.sassk.ca/event/soul-full-domestic-violence-support-group/2023-10-05/
ATTACH;FMTTYPE=image/jpeg:https://portal.sassk.ca/wp-content/uploads/2022/12/1dfad7f9-ea4c-7959-a70a-d3486b182566.jpg
END:VEVENT
BEGIN:VEVENT
DTSTART;TZID=America/Regina:20230928T183000
DTEND;TZID=America/Regina:20230928T200000
DTSTAMP:20260420T100324
CREATED:20221208T212622Z
LAST-MODIFIED:20221208T212622Z
UID:10000487-1695925800-1695931200@portal.sassk.ca
SUMMARY:Soul-Full Domestic Violence Support Group
DESCRIPTION:-Allowing survivors to connect with each other and decrease isolation \n-Empowering survivors with validation\, increased self-esteem and coping tools \n-Decreasing feelings of stigma and shame by offering hope and healing \n  \nFor additional information and specific location\, call the Envision office in Estevan at (306) 637-4004
URL:https://portal.sassk.ca/event/soul-full-domestic-violence-support-group/2023-09-28/
ATTACH;FMTTYPE=image/jpeg:https://portal.sassk.ca/wp-content/uploads/2022/12/1dfad7f9-ea4c-7959-a70a-d3486b182566.jpg
END:VEVENT
BEGIN:VEVENT
DTSTART;TZID=America/Regina:20230921T183000
DTEND;TZID=America/Regina:20230921T200000
DTSTAMP:20260420T100324
CREATED:20221208T212622Z
LAST-MODIFIED:20221208T212622Z
UID:10000486-1695321000-1695326400@portal.sassk.ca
SUMMARY:Soul-Full Domestic Violence Support Group
DESCRIPTION:-Allowing survivors to connect with each other and decrease isolation \n-Empowering survivors with validation\, increased self-esteem and coping tools \n-Decreasing feelings of stigma and shame by offering hope and healing \n  \nFor additional information and specific location\, call the Envision office in Estevan at (306) 637-4004
URL:https://portal.sassk.ca/event/soul-full-domestic-violence-support-group/2023-09-21/
ATTACH;FMTTYPE=image/jpeg:https://portal.sassk.ca/wp-content/uploads/2022/12/1dfad7f9-ea4c-7959-a70a-d3486b182566.jpg
END:VEVENT
BEGIN:VEVENT
DTSTART;TZID=America/Regina:20230914T183000
DTEND;TZID=America/Regina:20230914T200000
DTSTAMP:20260420T100324
CREATED:20221208T212622Z
LAST-MODIFIED:20221208T212622Z
UID:10000485-1694716200-1694721600@portal.sassk.ca
SUMMARY:Soul-Full Domestic Violence Support Group
DESCRIPTION:-Allowing survivors to connect with each other and decrease isolation \n-Empowering survivors with validation\, increased self-esteem and coping tools \n-Decreasing feelings of stigma and shame by offering hope and healing \n  \nFor additional information and specific location\, call the Envision office in Estevan at (306) 637-4004
URL:https://portal.sassk.ca/event/soul-full-domestic-violence-support-group/2023-09-14/
ATTACH;FMTTYPE=image/jpeg:https://portal.sassk.ca/wp-content/uploads/2022/12/1dfad7f9-ea4c-7959-a70a-d3486b182566.jpg
END:VEVENT
BEGIN:VEVENT
DTSTART;TZID=America/Regina:20230907T183000
DTEND;TZID=America/Regina:20230907T200000
DTSTAMP:20260420T100324
CREATED:20221208T212622Z
LAST-MODIFIED:20221208T212622Z
UID:10000484-1694111400-1694116800@portal.sassk.ca
SUMMARY:Soul-Full Domestic Violence Support Group
DESCRIPTION:-Allowing survivors to connect with each other and decrease isolation \n-Empowering survivors with validation\, increased self-esteem and coping tools \n-Decreasing feelings of stigma and shame by offering hope and healing \n  \nFor additional information and specific location\, call the Envision office in Estevan at (306) 637-4004
URL:https://portal.sassk.ca/event/soul-full-domestic-violence-support-group/2023-09-07/
ATTACH;FMTTYPE=image/jpeg:https://portal.sassk.ca/wp-content/uploads/2022/12/1dfad7f9-ea4c-7959-a70a-d3486b182566.jpg
END:VEVENT
BEGIN:VEVENT
DTSTART;TZID=America/Regina:20230831T183000
DTEND;TZID=America/Regina:20230831T200000
DTSTAMP:20260420T100324
CREATED:20221208T212622Z
LAST-MODIFIED:20221208T212622Z
UID:10000483-1693506600-1693512000@portal.sassk.ca
SUMMARY:Soul-Full Domestic Violence Support Group
DESCRIPTION:-Allowing survivors to connect with each other and decrease isolation \n-Empowering survivors with validation\, increased self-esteem and coping tools \n-Decreasing feelings of stigma and shame by offering hope and healing \n  \nFor additional information and specific location\, call the Envision office in Estevan at (306) 637-4004
URL:https://portal.sassk.ca/event/soul-full-domestic-violence-support-group/2023-08-31/
ATTACH;FMTTYPE=image/jpeg:https://portal.sassk.ca/wp-content/uploads/2022/12/1dfad7f9-ea4c-7959-a70a-d3486b182566.jpg
END:VEVENT
BEGIN:VEVENT
DTSTART;TZID=America/Regina:20230824T183000
DTEND;TZID=America/Regina:20230824T200000
DTSTAMP:20260420T100324
CREATED:20221208T212622Z
LAST-MODIFIED:20221208T212622Z
UID:10000482-1692901800-1692907200@portal.sassk.ca
SUMMARY:Soul-Full Domestic Violence Support Group
DESCRIPTION:-Allowing survivors to connect with each other and decrease isolation \n-Empowering survivors with validation\, increased self-esteem and coping tools \n-Decreasing feelings of stigma and shame by offering hope and healing \n  \nFor additional information and specific location\, call the Envision office in Estevan at (306) 637-4004
URL:https://portal.sassk.ca/event/soul-full-domestic-violence-support-group/2023-08-24/
ATTACH;FMTTYPE=image/jpeg:https://portal.sassk.ca/wp-content/uploads/2022/12/1dfad7f9-ea4c-7959-a70a-d3486b182566.jpg
END:VEVENT
BEGIN:VEVENT
DTSTART;TZID=America/Regina:20230817T183000
DTEND;TZID=America/Regina:20230817T200000
DTSTAMP:20260420T100324
CREATED:20221208T212622Z
LAST-MODIFIED:20221208T212622Z
UID:10000481-1692297000-1692302400@portal.sassk.ca
SUMMARY:Soul-Full Domestic Violence Support Group
DESCRIPTION:-Allowing survivors to connect with each other and decrease isolation \n-Empowering survivors with validation\, increased self-esteem and coping tools \n-Decreasing feelings of stigma and shame by offering hope and healing \n  \nFor additional information and specific location\, call the Envision office in Estevan at (306) 637-4004
URL:https://portal.sassk.ca/event/soul-full-domestic-violence-support-group/2023-08-17/
ATTACH;FMTTYPE=image/jpeg:https://portal.sassk.ca/wp-content/uploads/2022/12/1dfad7f9-ea4c-7959-a70a-d3486b182566.jpg
END:VEVENT
BEGIN:VEVENT
DTSTART;TZID=America/Regina:20230810T183000
DTEND;TZID=America/Regina:20230810T200000
DTSTAMP:20260420T100324
CREATED:20221208T212622Z
LAST-MODIFIED:20221208T212622Z
UID:10000480-1691692200-1691697600@portal.sassk.ca
SUMMARY:Soul-Full Domestic Violence Support Group
DESCRIPTION:-Allowing survivors to connect with each other and decrease isolation \n-Empowering survivors with validation\, increased self-esteem and coping tools \n-Decreasing feelings of stigma and shame by offering hope and healing \n  \nFor additional information and specific location\, call the Envision office in Estevan at (306) 637-4004
URL:https://portal.sassk.ca/event/soul-full-domestic-violence-support-group/2023-08-10/
ATTACH;FMTTYPE=image/jpeg:https://portal.sassk.ca/wp-content/uploads/2022/12/1dfad7f9-ea4c-7959-a70a-d3486b182566.jpg
END:VEVENT
BEGIN:VEVENT
DTSTART;TZID=America/Regina:20230803T183000
DTEND;TZID=America/Regina:20230803T200000
DTSTAMP:20260420T100324
CREATED:20221208T212622Z
LAST-MODIFIED:20221208T212622Z
UID:10000479-1691087400-1691092800@portal.sassk.ca
SUMMARY:Soul-Full Domestic Violence Support Group
DESCRIPTION:-Allowing survivors to connect with each other and decrease isolation \n-Empowering survivors with validation\, increased self-esteem and coping tools \n-Decreasing feelings of stigma and shame by offering hope and healing \n  \nFor additional information and specific location\, call the Envision office in Estevan at (306) 637-4004
URL:https://portal.sassk.ca/event/soul-full-domestic-violence-support-group/2023-08-03/
ATTACH;FMTTYPE=image/jpeg:https://portal.sassk.ca/wp-content/uploads/2022/12/1dfad7f9-ea4c-7959-a70a-d3486b182566.jpg
END:VEVENT
BEGIN:VEVENT
DTSTART;TZID=America/Regina:20230727T183000
DTEND;TZID=America/Regina:20230727T200000
DTSTAMP:20260420T100324
CREATED:20221208T212622Z
LAST-MODIFIED:20221208T212622Z
UID:10000478-1690482600-1690488000@portal.sassk.ca
SUMMARY:Soul-Full Domestic Violence Support Group
DESCRIPTION:-Allowing survivors to connect with each other and decrease isolation \n-Empowering survivors with validation\, increased self-esteem and coping tools \n-Decreasing feelings of stigma and shame by offering hope and healing \n  \nFor additional information and specific location\, call the Envision office in Estevan at (306) 637-4004
URL:https://portal.sassk.ca/event/soul-full-domestic-violence-support-group/2023-07-27/
ATTACH;FMTTYPE=image/jpeg:https://portal.sassk.ca/wp-content/uploads/2022/12/1dfad7f9-ea4c-7959-a70a-d3486b182566.jpg
END:VEVENT
BEGIN:VEVENT
DTSTART;TZID=America/Regina:20230720T183000
DTEND;TZID=America/Regina:20230720T200000
DTSTAMP:20260420T100324
CREATED:20221208T212622Z
LAST-MODIFIED:20221208T212622Z
UID:10000477-1689877800-1689883200@portal.sassk.ca
SUMMARY:Soul-Full Domestic Violence Support Group
DESCRIPTION:-Allowing survivors to connect with each other and decrease isolation \n-Empowering survivors with validation\, increased self-esteem and coping tools \n-Decreasing feelings of stigma and shame by offering hope and healing \n  \nFor additional information and specific location\, call the Envision office in Estevan at (306) 637-4004
URL:https://portal.sassk.ca/event/soul-full-domestic-violence-support-group/2023-07-20/
ATTACH;FMTTYPE=image/jpeg:https://portal.sassk.ca/wp-content/uploads/2022/12/1dfad7f9-ea4c-7959-a70a-d3486b182566.jpg
END:VEVENT
BEGIN:VEVENT
DTSTART;TZID=America/Regina:20230713T183000
DTEND;TZID=America/Regina:20230713T200000
DTSTAMP:20260420T100324
CREATED:20221208T212622Z
LAST-MODIFIED:20221208T212622Z
UID:10000476-1689273000-1689278400@portal.sassk.ca
SUMMARY:Soul-Full Domestic Violence Support Group
DESCRIPTION:-Allowing survivors to connect with each other and decrease isolation \n-Empowering survivors with validation\, increased self-esteem and coping tools \n-Decreasing feelings of stigma and shame by offering hope and healing \n  \nFor additional information and specific location\, call the Envision office in Estevan at (306) 637-4004
URL:https://portal.sassk.ca/event/soul-full-domestic-violence-support-group/2023-07-13/
ATTACH;FMTTYPE=image/jpeg:https://portal.sassk.ca/wp-content/uploads/2022/12/1dfad7f9-ea4c-7959-a70a-d3486b182566.jpg
END:VEVENT
BEGIN:VEVENT
DTSTART;TZID=America/Regina:20230706T183000
DTEND;TZID=America/Regina:20230706T200000
DTSTAMP:20260420T100324
CREATED:20221208T212622Z
LAST-MODIFIED:20221208T212622Z
UID:10000475-1688668200-1688673600@portal.sassk.ca
SUMMARY:Soul-Full Domestic Violence Support Group
DESCRIPTION:-Allowing survivors to connect with each other and decrease isolation \n-Empowering survivors with validation\, increased self-esteem and coping tools \n-Decreasing feelings of stigma and shame by offering hope and healing \n  \nFor additional information and specific location\, call the Envision office in Estevan at (306) 637-4004
URL:https://portal.sassk.ca/event/soul-full-domestic-violence-support-group/2023-07-06/
ATTACH;FMTTYPE=image/jpeg:https://portal.sassk.ca/wp-content/uploads/2022/12/1dfad7f9-ea4c-7959-a70a-d3486b182566.jpg
END:VEVENT
BEGIN:VEVENT
DTSTART;TZID=America/Regina:20230629T183000
DTEND;TZID=America/Regina:20230629T200000
DTSTAMP:20260420T100324
CREATED:20221208T212622Z
LAST-MODIFIED:20221208T212622Z
UID:10000474-1688063400-1688068800@portal.sassk.ca
SUMMARY:Soul-Full Domestic Violence Support Group
DESCRIPTION:-Allowing survivors to connect with each other and decrease isolation \n-Empowering survivors with validation\, increased self-esteem and coping tools \n-Decreasing feelings of stigma and shame by offering hope and healing \n  \nFor additional information and specific location\, call the Envision office in Estevan at (306) 637-4004
URL:https://portal.sassk.ca/event/soul-full-domestic-violence-support-group/2023-06-29/
ATTACH;FMTTYPE=image/jpeg:https://portal.sassk.ca/wp-content/uploads/2022/12/1dfad7f9-ea4c-7959-a70a-d3486b182566.jpg
END:VEVENT
BEGIN:VEVENT
DTSTART;TZID=America/Regina:20230622T183000
DTEND;TZID=America/Regina:20230622T200000
DTSTAMP:20260420T100324
CREATED:20221208T212622Z
LAST-MODIFIED:20221208T212622Z
UID:10000473-1687458600-1687464000@portal.sassk.ca
SUMMARY:Soul-Full Domestic Violence Support Group
DESCRIPTION:-Allowing survivors to connect with each other and decrease isolation \n-Empowering survivors with validation\, increased self-esteem and coping tools \n-Decreasing feelings of stigma and shame by offering hope and healing \n  \nFor additional information and specific location\, call the Envision office in Estevan at (306) 637-4004
URL:https://portal.sassk.ca/event/soul-full-domestic-violence-support-group/2023-06-22/
ATTACH;FMTTYPE=image/jpeg:https://portal.sassk.ca/wp-content/uploads/2022/12/1dfad7f9-ea4c-7959-a70a-d3486b182566.jpg
END:VEVENT
BEGIN:VEVENT
DTSTART;TZID=America/Regina:20230615T183000
DTEND;TZID=America/Regina:20230615T200000
DTSTAMP:20260420T100324
CREATED:20221208T212622Z
LAST-MODIFIED:20221208T212622Z
UID:10000472-1686853800-1686859200@portal.sassk.ca
SUMMARY:Soul-Full Domestic Violence Support Group
DESCRIPTION:-Allowing survivors to connect with each other and decrease isolation \n-Empowering survivors with validation\, increased self-esteem and coping tools \n-Decreasing feelings of stigma and shame by offering hope and healing \n  \nFor additional information and specific location\, call the Envision office in Estevan at (306) 637-4004
URL:https://portal.sassk.ca/event/soul-full-domestic-violence-support-group/2023-06-15/
ATTACH;FMTTYPE=image/jpeg:https://portal.sassk.ca/wp-content/uploads/2022/12/1dfad7f9-ea4c-7959-a70a-d3486b182566.jpg
END:VEVENT
BEGIN:VEVENT
DTSTART;TZID=America/Regina:20230608T183000
DTEND;TZID=America/Regina:20230608T200000
DTSTAMP:20260420T100324
CREATED:20221208T212622Z
LAST-MODIFIED:20221208T212622Z
UID:10000471-1686249000-1686254400@portal.sassk.ca
SUMMARY:Soul-Full Domestic Violence Support Group
DESCRIPTION:-Allowing survivors to connect with each other and decrease isolation \n-Empowering survivors with validation\, increased self-esteem and coping tools \n-Decreasing feelings of stigma and shame by offering hope and healing \n  \nFor additional information and specific location\, call the Envision office in Estevan at (306) 637-4004
URL:https://portal.sassk.ca/event/soul-full-domestic-violence-support-group/2023-06-08/
ATTACH;FMTTYPE=image/jpeg:https://portal.sassk.ca/wp-content/uploads/2022/12/1dfad7f9-ea4c-7959-a70a-d3486b182566.jpg
END:VEVENT
BEGIN:VEVENT
DTSTART;TZID=America/Regina:20230601T183000
DTEND;TZID=America/Regina:20230601T200000
DTSTAMP:20260420T100324
CREATED:20221208T212622Z
LAST-MODIFIED:20221208T212622Z
UID:10000470-1685644200-1685649600@portal.sassk.ca
SUMMARY:Soul-Full Domestic Violence Support Group
DESCRIPTION:-Allowing survivors to connect with each other and decrease isolation \n-Empowering survivors with validation\, increased self-esteem and coping tools \n-Decreasing feelings of stigma and shame by offering hope and healing \n  \nFor additional information and specific location\, call the Envision office in Estevan at (306) 637-4004
URL:https://portal.sassk.ca/event/soul-full-domestic-violence-support-group/2023-06-01/
ATTACH;FMTTYPE=image/jpeg:https://portal.sassk.ca/wp-content/uploads/2022/12/1dfad7f9-ea4c-7959-a70a-d3486b182566.jpg
END:VEVENT
END:VCALENDAR