BEGIN:VCALENDAR
VERSION:2.0
PRODID:-//SASS Portal - ECPv6.0.4//NONSGML v1.0//EN
CALSCALE:GREGORIAN
METHOD:PUBLISH
X-WR-CALNAME:SASS Portal
X-ORIGINAL-URL:https://portal.sassk.ca
X-WR-CALDESC:Events for SASS Portal
REFRESH-INTERVAL;VALUE=DURATION:PT1H
X-Robots-Tag:noindex
X-PUBLISHED-TTL:PT1H
BEGIN:VTIMEZONE
TZID:America/Regina
BEGIN:STANDARD
TZOFFSETFROM:-0600
TZOFFSETTO:-0600
TZNAME:CST
DTSTART:20220101T000000
END:STANDARD
END:VTIMEZONE
BEGIN:VEVENT
DTSTART;TZID=America/Regina:20230413T183000
DTEND;TZID=America/Regina:20230413T200000
DTSTAMP:20260420T150631
CREATED:20221208T212622Z
LAST-MODIFIED:20221208T212622Z
UID:10000463-1681410600-1681416000@portal.sassk.ca
SUMMARY:Soul-Full Domestic Violence Support Group
DESCRIPTION:-Allowing survivors to connect with each other and decrease isolation \n-Empowering survivors with validation\, increased self-esteem and coping tools \n-Decreasing feelings of stigma and shame by offering hope and healing \n  \nFor additional information and specific location\, call the Envision office in Estevan at (306) 637-4004
URL:https://portal.sassk.ca/event/soul-full-domestic-violence-support-group/2023-04-13/
ATTACH;FMTTYPE=image/jpeg:https://portal.sassk.ca/wp-content/uploads/2022/12/1dfad7f9-ea4c-7959-a70a-d3486b182566.jpg
END:VEVENT
BEGIN:VEVENT
DTSTART;TZID=America/Regina:20230406T183000
DTEND;TZID=America/Regina:20230406T200000
DTSTAMP:20260420T150631
CREATED:20221208T212622Z
LAST-MODIFIED:20221208T212622Z
UID:10000462-1680805800-1680811200@portal.sassk.ca
SUMMARY:Soul-Full Domestic Violence Support Group
DESCRIPTION:-Allowing survivors to connect with each other and decrease isolation \n-Empowering survivors with validation\, increased self-esteem and coping tools \n-Decreasing feelings of stigma and shame by offering hope and healing \n  \nFor additional information and specific location\, call the Envision office in Estevan at (306) 637-4004
URL:https://portal.sassk.ca/event/soul-full-domestic-violence-support-group/2023-04-06/
ATTACH;FMTTYPE=image/jpeg:https://portal.sassk.ca/wp-content/uploads/2022/12/1dfad7f9-ea4c-7959-a70a-d3486b182566.jpg
END:VEVENT
BEGIN:VEVENT
DTSTART;TZID=America/Regina:20230330T183000
DTEND;TZID=America/Regina:20230330T200000
DTSTAMP:20260420T150631
CREATED:20221208T212622Z
LAST-MODIFIED:20221208T212622Z
UID:10000461-1680201000-1680206400@portal.sassk.ca
SUMMARY:Soul-Full Domestic Violence Support Group
DESCRIPTION:-Allowing survivors to connect with each other and decrease isolation \n-Empowering survivors with validation\, increased self-esteem and coping tools \n-Decreasing feelings of stigma and shame by offering hope and healing \n  \nFor additional information and specific location\, call the Envision office in Estevan at (306) 637-4004
URL:https://portal.sassk.ca/event/soul-full-domestic-violence-support-group/2023-03-30/
ATTACH;FMTTYPE=image/jpeg:https://portal.sassk.ca/wp-content/uploads/2022/12/1dfad7f9-ea4c-7959-a70a-d3486b182566.jpg
END:VEVENT
BEGIN:VEVENT
DTSTART;TZID=America/Regina:20230323T183000
DTEND;TZID=America/Regina:20230323T200000
DTSTAMP:20260420T150631
CREATED:20221208T212622Z
LAST-MODIFIED:20221208T212622Z
UID:10000460-1679596200-1679601600@portal.sassk.ca
SUMMARY:Soul-Full Domestic Violence Support Group
DESCRIPTION:-Allowing survivors to connect with each other and decrease isolation \n-Empowering survivors with validation\, increased self-esteem and coping tools \n-Decreasing feelings of stigma and shame by offering hope and healing \n  \nFor additional information and specific location\, call the Envision office in Estevan at (306) 637-4004
URL:https://portal.sassk.ca/event/soul-full-domestic-violence-support-group/2023-03-23/
ATTACH;FMTTYPE=image/jpeg:https://portal.sassk.ca/wp-content/uploads/2022/12/1dfad7f9-ea4c-7959-a70a-d3486b182566.jpg
END:VEVENT
BEGIN:VEVENT
DTSTART;TZID=America/Regina:20230316T183000
DTEND;TZID=America/Regina:20230316T200000
DTSTAMP:20260420T150631
CREATED:20221208T212622Z
LAST-MODIFIED:20221208T212622Z
UID:10000459-1678991400-1678996800@portal.sassk.ca
SUMMARY:Soul-Full Domestic Violence Support Group
DESCRIPTION:-Allowing survivors to connect with each other and decrease isolation \n-Empowering survivors with validation\, increased self-esteem and coping tools \n-Decreasing feelings of stigma and shame by offering hope and healing \n  \nFor additional information and specific location\, call the Envision office in Estevan at (306) 637-4004
URL:https://portal.sassk.ca/event/soul-full-domestic-violence-support-group/2023-03-16/
ATTACH;FMTTYPE=image/jpeg:https://portal.sassk.ca/wp-content/uploads/2022/12/1dfad7f9-ea4c-7959-a70a-d3486b182566.jpg
END:VEVENT
BEGIN:VEVENT
DTSTART;TZID=America/Regina:20230309T183000
DTEND;TZID=America/Regina:20230309T200000
DTSTAMP:20260420T150631
CREATED:20221208T212622Z
LAST-MODIFIED:20221208T212622Z
UID:10000458-1678386600-1678392000@portal.sassk.ca
SUMMARY:Soul-Full Domestic Violence Support Group
DESCRIPTION:-Allowing survivors to connect with each other and decrease isolation \n-Empowering survivors with validation\, increased self-esteem and coping tools \n-Decreasing feelings of stigma and shame by offering hope and healing \n  \nFor additional information and specific location\, call the Envision office in Estevan at (306) 637-4004
URL:https://portal.sassk.ca/event/soul-full-domestic-violence-support-group/2023-03-09/
ATTACH;FMTTYPE=image/jpeg:https://portal.sassk.ca/wp-content/uploads/2022/12/1dfad7f9-ea4c-7959-a70a-d3486b182566.jpg
END:VEVENT
BEGIN:VEVENT
DTSTART;TZID=America/Regina:20230302T183000
DTEND;TZID=America/Regina:20230302T200000
DTSTAMP:20260420T150631
CREATED:20221208T212622Z
LAST-MODIFIED:20221208T212622Z
UID:10000457-1677781800-1677787200@portal.sassk.ca
SUMMARY:Soul-Full Domestic Violence Support Group
DESCRIPTION:-Allowing survivors to connect with each other and decrease isolation \n-Empowering survivors with validation\, increased self-esteem and coping tools \n-Decreasing feelings of stigma and shame by offering hope and healing \n  \nFor additional information and specific location\, call the Envision office in Estevan at (306) 637-4004
URL:https://portal.sassk.ca/event/soul-full-domestic-violence-support-group/2023-03-02/
ATTACH;FMTTYPE=image/jpeg:https://portal.sassk.ca/wp-content/uploads/2022/12/1dfad7f9-ea4c-7959-a70a-d3486b182566.jpg
END:VEVENT
BEGIN:VEVENT
DTSTART;TZID=America/Regina:20230223T183000
DTEND;TZID=America/Regina:20230223T200000
DTSTAMP:20260420T150631
CREATED:20221208T212622Z
LAST-MODIFIED:20221208T212622Z
UID:10000456-1677177000-1677182400@portal.sassk.ca
SUMMARY:Soul-Full Domestic Violence Support Group
DESCRIPTION:-Allowing survivors to connect with each other and decrease isolation \n-Empowering survivors with validation\, increased self-esteem and coping tools \n-Decreasing feelings of stigma and shame by offering hope and healing \n  \nFor additional information and specific location\, call the Envision office in Estevan at (306) 637-4004
URL:https://portal.sassk.ca/event/soul-full-domestic-violence-support-group/2023-02-23/
ATTACH;FMTTYPE=image/jpeg:https://portal.sassk.ca/wp-content/uploads/2022/12/1dfad7f9-ea4c-7959-a70a-d3486b182566.jpg
END:VEVENT
BEGIN:VEVENT
DTSTART;TZID=America/Regina:20230216T183000
DTEND;TZID=America/Regina:20230216T200000
DTSTAMP:20260420T150631
CREATED:20221208T212622Z
LAST-MODIFIED:20221208T212622Z
UID:10000455-1676572200-1676577600@portal.sassk.ca
SUMMARY:Soul-Full Domestic Violence Support Group
DESCRIPTION:-Allowing survivors to connect with each other and decrease isolation \n-Empowering survivors with validation\, increased self-esteem and coping tools \n-Decreasing feelings of stigma and shame by offering hope and healing \n  \nFor additional information and specific location\, call the Envision office in Estevan at (306) 637-4004
URL:https://portal.sassk.ca/event/soul-full-domestic-violence-support-group/2023-02-16/
ATTACH;FMTTYPE=image/jpeg:https://portal.sassk.ca/wp-content/uploads/2022/12/1dfad7f9-ea4c-7959-a70a-d3486b182566.jpg
END:VEVENT
BEGIN:VEVENT
DTSTART;TZID=America/Regina:20230209T183000
DTEND;TZID=America/Regina:20230209T200000
DTSTAMP:20260420T150631
CREATED:20221208T212622Z
LAST-MODIFIED:20221208T212622Z
UID:10000454-1675967400-1675972800@portal.sassk.ca
SUMMARY:Soul-Full Domestic Violence Support Group
DESCRIPTION:-Allowing survivors to connect with each other and decrease isolation \n-Empowering survivors with validation\, increased self-esteem and coping tools \n-Decreasing feelings of stigma and shame by offering hope and healing \n  \nFor additional information and specific location\, call the Envision office in Estevan at (306) 637-4004
URL:https://portal.sassk.ca/event/soul-full-domestic-violence-support-group/2023-02-09/
ATTACH;FMTTYPE=image/jpeg:https://portal.sassk.ca/wp-content/uploads/2022/12/1dfad7f9-ea4c-7959-a70a-d3486b182566.jpg
END:VEVENT
BEGIN:VEVENT
DTSTART;TZID=America/Regina:20230202T183000
DTEND;TZID=America/Regina:20230202T200000
DTSTAMP:20260420T150631
CREATED:20221208T212622Z
LAST-MODIFIED:20221208T212622Z
UID:10000453-1675362600-1675368000@portal.sassk.ca
SUMMARY:Soul-Full Domestic Violence Support Group
DESCRIPTION:-Allowing survivors to connect with each other and decrease isolation \n-Empowering survivors with validation\, increased self-esteem and coping tools \n-Decreasing feelings of stigma and shame by offering hope and healing \n  \nFor additional information and specific location\, call the Envision office in Estevan at (306) 637-4004
URL:https://portal.sassk.ca/event/soul-full-domestic-violence-support-group/2023-02-02/
ATTACH;FMTTYPE=image/jpeg:https://portal.sassk.ca/wp-content/uploads/2022/12/1dfad7f9-ea4c-7959-a70a-d3486b182566.jpg
END:VEVENT
BEGIN:VEVENT
DTSTART;TZID=America/Regina:20230126T183000
DTEND;TZID=America/Regina:20230126T200000
DTSTAMP:20260420T150631
CREATED:20221208T212622Z
LAST-MODIFIED:20221208T212622Z
UID:10000452-1674757800-1674763200@portal.sassk.ca
SUMMARY:Soul-Full Domestic Violence Support Group
DESCRIPTION:-Allowing survivors to connect with each other and decrease isolation \n-Empowering survivors with validation\, increased self-esteem and coping tools \n-Decreasing feelings of stigma and shame by offering hope and healing \n  \nFor additional information and specific location\, call the Envision office in Estevan at (306) 637-4004
URL:https://portal.sassk.ca/event/soul-full-domestic-violence-support-group/2023-01-26/
ATTACH;FMTTYPE=image/jpeg:https://portal.sassk.ca/wp-content/uploads/2022/12/1dfad7f9-ea4c-7959-a70a-d3486b182566.jpg
END:VEVENT
BEGIN:VEVENT
DTSTART;TZID=America/Regina:20230119T183000
DTEND;TZID=America/Regina:20230119T200000
DTSTAMP:20260420T150631
CREATED:20221208T212622Z
LAST-MODIFIED:20221208T212622Z
UID:10000451-1674153000-1674158400@portal.sassk.ca
SUMMARY:Soul-Full Domestic Violence Support Group
DESCRIPTION:-Allowing survivors to connect with each other and decrease isolation \n-Empowering survivors with validation\, increased self-esteem and coping tools \n-Decreasing feelings of stigma and shame by offering hope and healing \n  \nFor additional information and specific location\, call the Envision office in Estevan at (306) 637-4004
URL:https://portal.sassk.ca/event/soul-full-domestic-violence-support-group/2023-01-19/
ATTACH;FMTTYPE=image/jpeg:https://portal.sassk.ca/wp-content/uploads/2022/12/1dfad7f9-ea4c-7959-a70a-d3486b182566.jpg
END:VEVENT
BEGIN:VEVENT
DTSTART;TZID=America/Regina:20230112T183000
DTEND;TZID=America/Regina:20230112T200000
DTSTAMP:20260420T150631
CREATED:20221208T212622Z
LAST-MODIFIED:20221208T212622Z
UID:10000450-1673548200-1673553600@portal.sassk.ca
SUMMARY:Soul-Full Domestic Violence Support Group
DESCRIPTION:-Allowing survivors to connect with each other and decrease isolation \n-Empowering survivors with validation\, increased self-esteem and coping tools \n-Decreasing feelings of stigma and shame by offering hope and healing \n  \nFor additional information and specific location\, call the Envision office in Estevan at (306) 637-4004
URL:https://portal.sassk.ca/event/soul-full-domestic-violence-support-group/2023-01-12/
ATTACH;FMTTYPE=image/jpeg:https://portal.sassk.ca/wp-content/uploads/2022/12/1dfad7f9-ea4c-7959-a70a-d3486b182566.jpg
END:VEVENT
BEGIN:VEVENT
DTSTART;TZID=America/Regina:20230105T183000
DTEND;TZID=America/Regina:20230105T200000
DTSTAMP:20260420T150631
CREATED:20221208T212622Z
LAST-MODIFIED:20221208T212622Z
UID:10000449-1672943400-1672948800@portal.sassk.ca
SUMMARY:Soul-Full Domestic Violence Support Group
DESCRIPTION:-Allowing survivors to connect with each other and decrease isolation \n-Empowering survivors with validation\, increased self-esteem and coping tools \n-Decreasing feelings of stigma and shame by offering hope and healing \n  \nFor additional information and specific location\, call the Envision office in Estevan at (306) 637-4004
URL:https://portal.sassk.ca/event/soul-full-domestic-violence-support-group/2023-01-05/
ATTACH;FMTTYPE=image/jpeg:https://portal.sassk.ca/wp-content/uploads/2022/12/1dfad7f9-ea4c-7959-a70a-d3486b182566.jpg
END:VEVENT
BEGIN:VEVENT
DTSTART;TZID=America/Regina:20221229T183000
DTEND;TZID=America/Regina:20221229T200000
DTSTAMP:20260420T150631
CREATED:20221208T212622Z
LAST-MODIFIED:20221208T212622Z
UID:10000448-1672338600-1672344000@portal.sassk.ca
SUMMARY:Soul-Full Domestic Violence Support Group
DESCRIPTION:-Allowing survivors to connect with each other and decrease isolation \n-Empowering survivors with validation\, increased self-esteem and coping tools \n-Decreasing feelings of stigma and shame by offering hope and healing \n  \nFor additional information and specific location\, call the Envision office in Estevan at (306) 637-4004
URL:https://portal.sassk.ca/event/soul-full-domestic-violence-support-group/2022-12-29/
ATTACH;FMTTYPE=image/jpeg:https://portal.sassk.ca/wp-content/uploads/2022/12/1dfad7f9-ea4c-7959-a70a-d3486b182566.jpg
END:VEVENT
BEGIN:VEVENT
DTSTART;TZID=America/Regina:20221222T183000
DTEND;TZID=America/Regina:20221222T200000
DTSTAMP:20260420T150631
CREATED:20221208T212622Z
LAST-MODIFIED:20221208T212622Z
UID:10000447-1671733800-1671739200@portal.sassk.ca
SUMMARY:Soul-Full Domestic Violence Support Group
DESCRIPTION:-Allowing survivors to connect with each other and decrease isolation \n-Empowering survivors with validation\, increased self-esteem and coping tools \n-Decreasing feelings of stigma and shame by offering hope and healing \n  \nFor additional information and specific location\, call the Envision office in Estevan at (306) 637-4004
URL:https://portal.sassk.ca/event/soul-full-domestic-violence-support-group/2022-12-22/
ATTACH;FMTTYPE=image/jpeg:https://portal.sassk.ca/wp-content/uploads/2022/12/1dfad7f9-ea4c-7959-a70a-d3486b182566.jpg
END:VEVENT
BEGIN:VEVENT
DTSTART;TZID=America/Regina:20221215T183000
DTEND;TZID=America/Regina:20221215T200000
DTSTAMP:20260420T150631
CREATED:20221208T212622Z
LAST-MODIFIED:20221208T212622Z
UID:10000446-1671129000-1671134400@portal.sassk.ca
SUMMARY:Soul-Full Domestic Violence Support Group
DESCRIPTION:-Allowing survivors to connect with each other and decrease isolation \n-Empowering survivors with validation\, increased self-esteem and coping tools \n-Decreasing feelings of stigma and shame by offering hope and healing \n  \nFor additional information and specific location\, call the Envision office in Estevan at (306) 637-4004
URL:https://portal.sassk.ca/event/soul-full-domestic-violence-support-group/2022-12-15/
ATTACH;FMTTYPE=image/jpeg:https://portal.sassk.ca/wp-content/uploads/2022/12/1dfad7f9-ea4c-7959-a70a-d3486b182566.jpg
END:VEVENT
BEGIN:VEVENT
DTSTART;TZID=America/Regina:20221208T183000
DTEND;TZID=America/Regina:20221208T200000
DTSTAMP:20260420T150631
CREATED:20221208T212622Z
LAST-MODIFIED:20221208T212622Z
UID:10000445-1670524200-1670529600@portal.sassk.ca
SUMMARY:Soul-Full Domestic Violence Support Group
DESCRIPTION:-Allowing survivors to connect with each other and decrease isolation \n-Empowering survivors with validation\, increased self-esteem and coping tools \n-Decreasing feelings of stigma and shame by offering hope and healing \n  \nFor additional information and specific location\, call the Envision office in Estevan at (306) 637-4004
URL:https://portal.sassk.ca/event/soul-full-domestic-violence-support-group/2022-12-08/
ATTACH;FMTTYPE=image/jpeg:https://portal.sassk.ca/wp-content/uploads/2022/12/1dfad7f9-ea4c-7959-a70a-d3486b182566.jpg
END:VEVENT
BEGIN:VEVENT
DTSTART;TZID=America/Regina:20221130T180000
DTEND;TZID=America/Regina:20221130T180000
DTSTAMP:20260420T150631
CREATED:20221018T160148Z
LAST-MODIFIED:20221021T182128Z
UID:10000099-1669831200-1669831200@portal.sassk.ca
SUMMARY:Holiday Stress Workshop
DESCRIPTION:
URL:https://portal.sassk.ca/event/holiday-stress-workshop/
LOCATION:Estevan Public Library
ATTACH;FMTTYPE=image/png:https://portal.sassk.ca/wp-content/uploads/2022/10/estevan.png
END:VEVENT
BEGIN:VEVENT
DTSTART;TZID=America/Regina:20221026T180000
DTEND;TZID=America/Regina:20221026T180000
DTSTAMP:20260420T150631
CREATED:20221018T160047Z
LAST-MODIFIED:20221021T171429Z
UID:10000098-1666807200-1666807200@portal.sassk.ca
SUMMARY:Assertiveness and Boundaries Workshop
DESCRIPTION:Being assertive is an important communication skill which can reduce your levels of depression and anxiety and improve your self esteem. Assertiveness is a communication style that helps people to express their feelings\, thoughts\, beliefs\, and opinions in an open manner that doesn’t violate the rights of others. Other communication styles you may have heard of include being aggressive\, which is a style that violates the rights of others\, and being passive where we violate our own rights. You have probably also heard of passive-aggressive. This is where someone is essentially being aggressive but in a passive or indirect way. Participants will learn to identify each of these communication styles as well as practice their newly acquired assertiveness tools in a supportive setting. \nBoundaries are clearly defined limits within which you are free to be yourself with no restrictions placed on you by others\, as to how to think\, feel\, or act. Establishing boundaries is essential to creating and maintaining mental\, physical and spiritual health. Participants will learn how boundaries influence our relationships and ways to set boundaries in an assertive way. Additionally\, participants will explore the negative effects of not setting limits and the benefits to be gained by protecting personal boundaries.
URL:https://portal.sassk.ca/event/assertiveness-and-boundaries-workshop/
LOCATION:Estevan Public Library
ATTACH;FMTTYPE=image/png:https://portal.sassk.ca/wp-content/uploads/2022/10/estevan.png
END:VEVENT
BEGIN:VEVENT
DTSTART;TZID=America/Regina:20221020T180000
DTEND;TZID=America/Regina:20221020T190000
DTSTAMP:20260420T150631
CREATED:20221018T160604Z
LAST-MODIFIED:20221018T160604Z
UID:10000100-1666288800-1666292400@portal.sassk.ca
SUMMARY:Self-Esteem Workshop
DESCRIPTION:
URL:https://portal.sassk.ca/event/self-esteem-workshop/
LOCATION:Envision Counselling and Support Services\, Weyburn\, 120 3rd Street South\, Saskatchewan\, Canada
END:VEVENT
END:VCALENDAR