BEGIN:VCALENDAR
VERSION:2.0
PRODID:-//SASS Portal - ECPv6.0.4//NONSGML v1.0//EN
CALSCALE:GREGORIAN
METHOD:PUBLISH
X-ORIGINAL-URL:https://portal.sassk.ca
X-WR-CALDESC:Events for SASS Portal
REFRESH-INTERVAL;VALUE=DURATION:PT1H
X-Robots-Tag:noindex
X-PUBLISHED-TTL:PT1H
BEGIN:VTIMEZONE
TZID:America/Regina
BEGIN:STANDARD
TZOFFSETFROM:-0600
TZOFFSETTO:-0600
TZNAME:CST
DTSTART:20230101T000000
END:STANDARD
END:VTIMEZONE
BEGIN:VEVENT
DTSTART;TZID=America/Regina:20230131T180000
DTEND;TZID=America/Regina:20230131T200000
DTSTAMP:20260422T084440
CREATED:20230126T153042Z
LAST-MODIFIED:20230126T153042Z
UID:10000529-1675188000-1675195200@portal.sassk.ca
SUMMARY:Reflecting on the Papal Visit; Sexual Health\, Gender Identity\, Reparations
DESCRIPTION:*Please note this event starts at 5:00 pm CST* \nTrigger Warning: This conversation will speak about sensitive content involving the abuse of children. Wa-say Healing Centre is available to speak with those affected by this information and are available Monday-Friday 8:30am-4:30pm at 204-774-6484. \nThe Feast Centre’s aim of decolonizing Indigenous history and research related to sexually transmitted and blood borne infections (STBBI) will continue in this new year. This online session will explore the impact of the seven Euro-Christian churches that imposed western values on Indigenous peoples through the Indian residential and day school era. The recent visit of Pope Francis to Canada to respond to the harms and crimes perpetrated by the Roman Catholic Church against Indigenous children and their families will be the focus of this panel’s conversation. The re-emergence of Indigenous values\, teachings\, and life philosophy will be discussed with regard to 2Spirit/Indigenous LGBTQ people\, gender-based violence\, feminism\, matriarchy\, midwifery\, gender identity\, sexual health research\, and reparations. \nLearning Intentions: \n\nParticipants will learn how the Canadian state and Euro-Christian churches attempted to erase the history and lives of 2Spirit/Indigenous people.\nTo encourage communities\, elders\, leaders to begin these hard conversations.\nTo unpack the history of residential schools\, the trauma ensued by Indigenous children\, and the generational trauma and harms that continue to this day.\nTo reclaim\, restore\, and repair Two Spirit narratives.\nTo imagine what our ancestors would say.
URL:https://portal.sassk.ca/event/reflecting-on-the-papal-visit-sexual-health-gender-identity-reparations-2/
LOCATION:Online Webinar
ATTACH;FMTTYPE=image/jpeg:https://portal.sassk.ca/wp-content/uploads/2023/01/https___cdn.evbuc_.com_images_425655109_1118240690933_1_original.jpg
END:VEVENT
END:VCALENDAR