BEGIN:VCALENDAR
VERSION:2.0
PRODID:-//SASS Portal - ECPv6.0.4//NONSGML v1.0//EN
CALSCALE:GREGORIAN
METHOD:PUBLISH
X-WR-CALNAME:SASS Portal
X-ORIGINAL-URL:https://portal.sassk.ca
X-WR-CALDESC:Events for SASS Portal
REFRESH-INTERVAL;VALUE=DURATION:PT1H
X-Robots-Tag:noindex
X-PUBLISHED-TTL:PT1H
BEGIN:VTIMEZONE
TZID:America/Regina
BEGIN:STANDARD
TZOFFSETFROM:-0600
TZOFFSETTO:-0600
TZNAME:CST
DTSTART:20230101T000000
END:STANDARD
END:VTIMEZONE
BEGIN:VEVENT
DTSTART;TZID=America/Regina:20230204T160000
DTEND;TZID=America/Regina:20230204T183000
DTSTAMP:20260422T101616
CREATED:20230125T164119Z
LAST-MODIFIED:20230125T164119Z
UID:10000524-1675526400-1675535400@portal.sassk.ca
SUMMARY:Her Voice Returns: Women's Bonds
DESCRIPTION:*Please note this event starts at 3:00 pm CST* \nThere have always been strong bonds between women. Relationships between mothers and daughters\, sisters or friends run like bright threads through women’s lives. Straightforward or multifaceted\, short –lived or extending over many chapters\, women’s relationships shape their lives and through them the culture. \nThe “Her Voice Returns” Storytelling project aims to provide a platform for the expression of women’s experiences and the Feminine Principle through mainly storytelling but also poetry and music and sometimes an interview.
URL:https://portal.sassk.ca/event/her-voice-returns-womens-bonds/
LOCATION:Online Webinar
ATTACH;FMTTYPE=image/jpeg:https://portal.sassk.ca/wp-content/uploads/2023/01/Her-Voice-Returns.jpg
END:VEVENT
END:VCALENDAR