BEGIN:VCALENDAR
VERSION:2.0
PRODID:-//SASS Portal - ECPv6.0.4//NONSGML v1.0//EN
CALSCALE:GREGORIAN
METHOD:PUBLISH
X-ORIGINAL-URL:https://portal.sassk.ca
X-WR-CALDESC:Events for SASS Portal
REFRESH-INTERVAL;VALUE=DURATION:PT1H
X-Robots-Tag:noindex
X-PUBLISHED-TTL:PT1H
BEGIN:VTIMEZONE
TZID:America/Regina
BEGIN:STANDARD
TZOFFSETFROM:-0600
TZOFFSETTO:-0600
TZNAME:CST
DTSTART:20220101T000000
END:STANDARD
END:VTIMEZONE
BEGIN:VEVENT
DTSTART;TZID=America/Regina:20230123T080000
DTEND;TZID=America/Regina:20230126T120000
DTSTAMP:20260422T043038
CREATED:20221213T163846Z
LAST-MODIFIED:20221213T163846Z
UID:10000500-1674460800-1674734400@portal.sassk.ca
SUMMARY:Understanding the Dynamics of Domestic Violence for Family Law Practitioners
DESCRIPTION:This training will provide an overview of the dynamics of domestic violence in the context of separation\, divorce\, and child custody and access. All are welcome to attend. The training will take place over 4 mornings (8 am – 12 pm Saskatchewan time)\, January 23 – 26\, 2023.
URL:https://portal.sassk.ca/event/understanding-the-dynamics-of-domestic-violence-for-family-law-practitioners-3/
LOCATION:Online Webinar
ATTACH;FMTTYPE=image/png:https://portal.sassk.ca/wp-content/uploads/2022/12/download-1.png
END:VEVENT
BEGIN:VEVENT
DTSTART;TZID=America/Regina:20220919T080000
DTEND;TZID=America/Regina:20220922T170000
DTSTAMP:20260422T043038
CREATED:20220831T203824Z
LAST-MODIFIED:20220921T215602Z
UID:10000017-1663574400-1663866000@portal.sassk.ca
SUMMARY:Understanding the Dynamics of Domestic Violence for Family Law Practitioners
DESCRIPTION:This training will provide an overview of the dynamics of domestic violence in the context of separation\, divorce and child custody and access. All are welcome to attend.
URL:https://portal.sassk.ca/event/understanding-the-dynamics-of-domestic-violence-for-family-law-practitioners-2/
END:VEVENT
BEGIN:VEVENT
DTSTART;TZID=America/Regina:20220919T080000
DTEND;TZID=America/Regina:20220919T120000
DTSTAMP:20260422T043038
CREATED:20220727T175929Z
LAST-MODIFIED:20220921T215225Z
UID:10000015-1663574400-1663588800@portal.sassk.ca
SUMMARY:Understanding the Dynamics of Domestic Violence  for Family Law Practitioners
DESCRIPTION:This training will provide an overview of the dynamics of domestic violence in the context of separation\, divorce and child custody and access. All are welcome to attend.
URL:https://portal.sassk.ca/event/understanding-the-dynamics-of-domestic-violence-for-family-law-practitioners/
LOCATION:Virtual
END:VEVENT
END:VCALENDAR