BEGIN:VCALENDAR
VERSION:2.0
PRODID:-//SASS Portal - ECPv6.0.4//NONSGML v1.0//EN
CALSCALE:GREGORIAN
METHOD:PUBLISH
X-WR-CALNAME:SASS Portal
X-ORIGINAL-URL:https://portal.sassk.ca
X-WR-CALDESC:Events for SASS Portal
REFRESH-INTERVAL;VALUE=DURATION:PT1H
X-Robots-Tag:noindex
X-PUBLISHED-TTL:PT1H
BEGIN:VTIMEZONE
TZID:America/Regina
BEGIN:STANDARD
TZOFFSETFROM:-0600
TZOFFSETTO:-0600
TZNAME:CST
DTSTART:20220101T000000
END:STANDARD
END:VTIMEZONE
BEGIN:VEVENT
DTSTART;TZID=America/Regina:20220818T133000
DTEND;TZID=America/Regina:20220818T153000
DTSTAMP:20260420T073634
CREATED:20220713T220052Z
LAST-MODIFIED:20220722T210239Z
UID:10000005-1660829400-1660836600@portal.sassk.ca
SUMMARY:Saskatchewan Sexual Violence Education Initiative: Focus Group
DESCRIPTION:
URL:https://portal.sassk.ca/event/saskatchewan-sexual-violence-education-initiative-focus-group/
LOCATION:Envision Counselling and Support Services\, Weyburn\, 120 3rd Street South\, Saskatchewan\, Canada
ORGANIZER;CN="SASS":MAILTO:somiya@sassk.ca
END:VEVENT
BEGIN:VEVENT
DTSTART;TZID=America/Regina:20220808T140000
DTEND;TZID=America/Regina:20220808T160000
DTSTAMP:20260420T073634
CREATED:20220722T203808Z
LAST-MODIFIED:20220722T203808Z
UID:10000009-1659967200-1659974400@portal.sassk.ca
SUMMARY:Saskatchewan Sexual Violence Education Initiative: Focus Group
DESCRIPTION:
URL:https://portal.sassk.ca/event/saskatchewan-sexual-violence-education-initiative-focus-group-3/
LOCATION:Piwapan Women’s Centre\, La Ronge\, Saskatchewan\, Canada
ORGANIZER;CN="SASS":MAILTO:somiya@sassk.ca
END:VEVENT
BEGIN:VEVENT
DTSTART;TZID=America/Regina:20220804T140000
DTEND;TZID=America/Regina:20220804T170000
DTSTAMP:20260420T073634
CREATED:20220722T203903Z
LAST-MODIFIED:20220727T173109Z
UID:10000010-1659621600-1659632400@portal.sassk.ca
SUMMARY:Saskatchewan Sexual Violence Education Initiative: Focus Group
DESCRIPTION:
URL:https://portal.sassk.ca/event/saskatchewan-sexual-violence-education-initiative-focus-group-4/
LOCATION:Society for Involvement of Good Neighbors\, 345 Broadway St W\, Yorkton\, Saskatchewan\, Canada
ORGANIZER;CN="SASS":MAILTO:somiya@sassk.ca
END:VEVENT
BEGIN:VEVENT
DTSTART;TZID=America/Regina:20220803T140000
DTEND;TZID=America/Regina:20220803T170000
DTSTAMP:20260420T073634
CREATED:20220727T165935Z
LAST-MODIFIED:20220727T165935Z
UID:10000013-1659535200-1659546000@portal.sassk.ca
SUMMARY:Saskatchewan Sexual Violence Initiative: Focus Group
DESCRIPTION:
URL:https://portal.sassk.ca/event/saskatchewan-sexual-violence-initiative-focus-group/
LOCATION:Southwest Crisis Services\, Swift Current\, Saskatchewan\, S9H 3X3\, Canada
ORGANIZER;CN="SASS":MAILTO:somiya@sassk.ca
END:VEVENT
END:VCALENDAR