BEGIN:VCALENDAR
VERSION:2.0
PRODID:-//SASS Portal - ECPv6.0.4//NONSGML v1.0//EN
CALSCALE:GREGORIAN
METHOD:PUBLISH
X-WR-CALNAME:SASS Portal
X-ORIGINAL-URL:https://portal.sassk.ca
X-WR-CALDESC:Events for SASS Portal
REFRESH-INTERVAL;VALUE=DURATION:PT1H
X-Robots-Tag:noindex
X-PUBLISHED-TTL:PT1H
BEGIN:VTIMEZONE
TZID:America/Regina
BEGIN:STANDARD
TZOFFSETFROM:-0600
TZOFFSETTO:-0600
TZNAME:CST
DTSTART:20230101T000000
END:STANDARD
END:VTIMEZONE
BEGIN:VEVENT
DTSTART;TZID=America/Regina:20230127T123000
DTEND;TZID=America/Regina:20230127T133000
DTSTAMP:20260420T030829
CREATED:20230119T224152Z
LAST-MODIFIED:20230123T171459Z
UID:10000508-1674822600-1674826200@portal.sassk.ca
SUMMARY:Rural & Remote Health: Community Engagement Towards a Fit-for-Purpose Rural Workforce
DESCRIPTION:This month the Division of Social Accountability directs its attention to rural and remote health. In April of 2022\, the DSA office spent time in consultation with community partners and heard that the lack of services in rural and remote areas continues to have an adverse impact on their services and on the lives of the people they serve.  \nIn our province\, where half of our population lives outside of large urban centre\, the impacts of these health inequities continues to grow. How do we train physicians that can contribute to policy decisions that advance health equity in our province? The DSA believes that it is through genuine engagement with community stakeholders and advocates\, and leveraging the concerns of faculty\, students\, and staff that we can respond to the complex challenges of being a socially accountable organization in a province with rapidly changing needs. \n Join us for our Health Equity Webinar Series on January 27th where we hear from Dr. Sarah Strasser\, Emeritus Professor of Rural Health University of Waikato\, New Zealand and Dr. Roger Strasser\, Emeritus Professor of Rural Health University of Waikato\, New Zealand and Founding Dean Emeritus Northern Ontario School of Medicine where they will share their extensive experience using community engagement to build a fit-for-purpose rural workforce.
URL:https://portal.sassk.ca/event/rural-remote-health-community-engagement-towards-a-fit-for-purpose-rural-workforce/
LOCATION:Online Webinar
ATTACH;FMTTYPE=image/jpeg:https://portal.sassk.ca/wp-content/uploads/2023/01/unnamed.jpg
END:VEVENT
END:VCALENDAR