BEGIN:VCALENDAR
VERSION:2.0
PRODID:-//SASS Portal - ECPv6.0.4//NONSGML v1.0//EN
CALSCALE:GREGORIAN
METHOD:PUBLISH
X-ORIGINAL-URL:https://portal.sassk.ca
X-WR-CALDESC:Events for SASS Portal
REFRESH-INTERVAL;VALUE=DURATION:PT1H
X-Robots-Tag:noindex
X-PUBLISHED-TTL:PT1H
BEGIN:VTIMEZONE
TZID:America/Regina
BEGIN:STANDARD
TZOFFSETFROM:-0600
TZOFFSETTO:-0600
TZNAME:CST
DTSTART:20220101T000000
END:STANDARD
END:VTIMEZONE
BEGIN:VEVENT
DTSTART;TZID=America/Regina:20221027T070000
DTEND;TZID=America/Regina:20221027T083000
DTSTAMP:20260421T031227
CREATED:20221021T164515Z
LAST-MODIFIED:20221021T164515Z
UID:10000422-1666854000-1666859400@portal.sassk.ca
SUMMARY:World Premier ISPCAN Film Event: Inspiring Change Through Storytelling
DESCRIPTION:About the film FLOW: \nAmy is preparing for her art exhibition when a comment reignites traumatic childhood memories. She wants help but struggles with family loyalty. This film\, inspired by interviews with victims/survivors of child sexual abuse\, employs the power of storytelling to spark debate about how we\, as a society\, hinder the disclosure of childhood sexual abuse. \nThis film is based on interviews with people who are recovering from childhood sexual abuse. The creation of this film was inspired by Dr. Claire Cunnington’s Wellcome Trust funded doctoral research at the University of Sheffield and the film itself was funded by Research England. 
URL:https://portal.sassk.ca/event/world-premier-ispcan-film-event-inspiring-change-through-storytelling/
LOCATION:Virtual
ATTACH;FMTTYPE=image/png:https://portal.sassk.ca/wp-content/uploads/2022/10/flow.png
END:VEVENT
END:VCALENDAR