BEGIN:VCALENDAR
VERSION:2.0
PRODID:-//SASS Portal - ECPv6.0.4//NONSGML v1.0//EN
CALSCALE:GREGORIAN
METHOD:PUBLISH
X-ORIGINAL-URL:https://portal.sassk.ca
X-WR-CALDESC:Events for SASS Portal
REFRESH-INTERVAL;VALUE=DURATION:PT1H
X-Robots-Tag:noindex
X-PUBLISHED-TTL:PT1H
BEGIN:VTIMEZONE
TZID:America/Regina
BEGIN:STANDARD
TZOFFSETFROM:-0600
TZOFFSETTO:-0600
TZNAME:CST
DTSTART:20220101T000000
END:STANDARD
END:VTIMEZONE
BEGIN:VEVENT
DTSTART;TZID=America/Regina:20221124T180000
DTEND;TZID=America/Regina:20221124T203000
DTSTAMP:20260421T010642
CREATED:20221118T213322Z
LAST-MODIFIED:20221118T213322Z
UID:10000441-1669312800-1669321800@portal.sassk.ca
SUMMARY:Beyond the Rhetoric: The Role of the University in Addressing Social Inequities and Systemic Injustices that Affect Health Outcomes
DESCRIPTION:The purpose of this panel discussion is to educate university students\, many of whom will enter the healthcare field or other professions that serve the general public\, about social inequities and their effects on health outcomes. The effects of social inequities in healthcare can have life and death consequences and therefore it is of utmost importance that these concerns are seriously addressed individually and at a systemic level.
URL:https://portal.sassk.ca/event/beyond-the-rhetoric-the-role-of-the-university-in-addressing-social-inequities-and-systemic-injustices-that-affect-health-outcomes/
LOCATION:University of Regina\, Education Auditorium 106
ATTACH;FMTTYPE=image/jpeg:https://portal.sassk.ca/wp-content/uploads/2022/11/unnamed-1.jpg
END:VEVENT
END:VCALENDAR