BEGIN:VCALENDAR
VERSION:2.0
PRODID:-//SASS Portal - ECPv6.0.4//NONSGML v1.0//EN
CALSCALE:GREGORIAN
METHOD:PUBLISH
X-WR-CALNAME:SASS Portal
X-ORIGINAL-URL:https://portal.sassk.ca
X-WR-CALDESC:Events for SASS Portal
REFRESH-INTERVAL;VALUE=DURATION:PT1H
X-Robots-Tag:noindex
X-PUBLISHED-TTL:PT1H
BEGIN:VTIMEZONE
TZID:America/Regina
BEGIN:STANDARD
TZOFFSETFROM:-0600
TZOFFSETTO:-0600
TZNAME:CST
DTSTART:20220101T000000
END:STANDARD
END:VTIMEZONE
BEGIN:VEVENT
DTSTART;TZID=America/Regina:20221128T080000
DTEND;TZID=America/Regina:20221129T163000
DTSTAMP:20260420T194602
CREATED:20221116T190955Z
LAST-MODIFIED:20221116T190955Z
UID:10000434-1669622400-1669739400@portal.sassk.ca
SUMMARY:Wîcihitowin Indigenous Engagement Conference (Live & Virtual)
DESCRIPTION:This year\, the 2022 Wîcihitowin Conference (Live & Virtual) will centre on the Indigenous principle of witnessing or bearing witness.
URL:https://portal.sassk.ca/event/wicihitowin-indigenous-engagement-conference-live-virtual/
LOCATION:TCU Place 35 22 Street East Saskatoon\, SK S7K 0C8
END:VEVENT
END:VCALENDAR