BEGIN:VCALENDAR
VERSION:2.0
PRODID:-//SASS Portal - ECPv6.0.4//NONSGML v1.0//EN
CALSCALE:GREGORIAN
METHOD:PUBLISH
X-ORIGINAL-URL:https://portal.sassk.ca
X-WR-CALDESC:Events for SASS Portal
REFRESH-INTERVAL;VALUE=DURATION:PT1H
X-Robots-Tag:noindex
X-PUBLISHED-TTL:PT1H
BEGIN:VTIMEZONE
TZID:America/Regina
BEGIN:STANDARD
TZOFFSETFROM:-0600
TZOFFSETTO:-0600
TZNAME:CST
DTSTART:20220101T000000
END:STANDARD
END:VTIMEZONE
BEGIN:VEVENT
DTSTART;TZID=America/Regina:20220913T100000
DTEND;TZID=America/Regina:20220913T113000
DTSTAMP:20260420T005118
CREATED:20220908T210334Z
LAST-MODIFIED:20220908T210334Z
UID:10000018-1663063200-1663068600@portal.sassk.ca
SUMMARY:Trauma-Informed Approaches to Sexual and Reproductive Care
DESCRIPTION:
URL:https://portal.sassk.ca/event/trauma-informed-approaches-to-sexual-and-reproductive-care/
LOCATION:Virtual
END:VEVENT
BEGIN:VEVENT
DTSTART;TZID=America/Regina:20220919T080000
DTEND;TZID=America/Regina:20220919T120000
DTSTAMP:20260420T005118
CREATED:20220727T175929Z
LAST-MODIFIED:20220921T215225Z
UID:10000015-1663574400-1663588800@portal.sassk.ca
SUMMARY:Understanding the Dynamics of Domestic Violence  for Family Law Practitioners
DESCRIPTION:This training will provide an overview of the dynamics of domestic violence in the context of separation\, divorce and child custody and access. All are welcome to attend.
URL:https://portal.sassk.ca/event/understanding-the-dynamics-of-domestic-violence-for-family-law-practitioners/
LOCATION:Virtual
END:VEVENT
BEGIN:VEVENT
DTSTART;TZID=America/Regina:20221027T070000
DTEND;TZID=America/Regina:20221027T083000
DTSTAMP:20260420T005118
CREATED:20221021T164515Z
LAST-MODIFIED:20221021T164515Z
UID:10000422-1666854000-1666859400@portal.sassk.ca
SUMMARY:World Premier ISPCAN Film Event: Inspiring Change Through Storytelling
DESCRIPTION:About the film FLOW: \nAmy is preparing for her art exhibition when a comment reignites traumatic childhood memories. She wants help but struggles with family loyalty. This film\, inspired by interviews with victims/survivors of child sexual abuse\, employs the power of storytelling to spark debate about how we\, as a society\, hinder the disclosure of childhood sexual abuse. \nThis film is based on interviews with people who are recovering from childhood sexual abuse. The creation of this film was inspired by Dr. Claire Cunnington’s Wellcome Trust funded doctoral research at the University of Sheffield and the film itself was funded by Research England. 
URL:https://portal.sassk.ca/event/world-premier-ispcan-film-event-inspiring-change-through-storytelling/
LOCATION:Virtual
ATTACH;FMTTYPE=image/png:https://portal.sassk.ca/wp-content/uploads/2022/10/flow.png
END:VEVENT
BEGIN:VEVENT
DTSTART;TZID=America/Regina:20240222T140000
DTEND;TZID=America/Regina:20240222T170000
DTSTAMP:20260420T005118
CREATED:20240214T172148Z
LAST-MODIFIED:20240214T172148Z
UID:10000661-1708610400-1708621200@portal.sassk.ca
SUMMARY:Engaging Men in Conversation about Family Violence to Manage Risk and Promote Safety
DESCRIPTION:This course would be ideal for a service provider who currently works with family\, individuals and/or specialized treatment setting for men who cause harm (men’s behaviour change programs\, child welfare\, etc). It would also be beneficial for therapists and counsellors who wish to gain more in-depth knowledge on how to work with men who cause harm. There is an assumption that you will have some experience in a counselling or social work setting.  \n  \n1:00 PM- 4:00 PM SK TIME
URL:https://portal.sassk.ca/event/engaging-men-in-conversation-about-family-violence-to-manage-risk-and-promote-safety/2024-02-22/
LOCATION:Virtual
ATTACH;FMTTYPE=image/png:https://portal.sassk.ca/wp-content/uploads/2023/08/learning-network.png
END:VEVENT
BEGIN:VEVENT
DTSTART;TZID=America/Regina:20240229T140000
DTEND;TZID=America/Regina:20240229T170000
DTSTAMP:20260420T005118
CREATED:20240214T172148Z
LAST-MODIFIED:20240214T172148Z
UID:10000662-1709215200-1709226000@portal.sassk.ca
SUMMARY:Engaging Men in Conversation about Family Violence to Manage Risk and Promote Safety
DESCRIPTION:This course would be ideal for a service provider who currently works with family\, individuals and/or specialized treatment setting for men who cause harm (men’s behaviour change programs\, child welfare\, etc). It would also be beneficial for therapists and counsellors who wish to gain more in-depth knowledge on how to work with men who cause harm. There is an assumption that you will have some experience in a counselling or social work setting.  \n  \n1:00 PM- 4:00 PM SK TIME
URL:https://portal.sassk.ca/event/engaging-men-in-conversation-about-family-violence-to-manage-risk-and-promote-safety/2024-02-29/
LOCATION:Virtual
ATTACH;FMTTYPE=image/png:https://portal.sassk.ca/wp-content/uploads/2023/08/learning-network.png
END:VEVENT
BEGIN:VEVENT
DTSTART;TZID=America/Regina:20240307T140000
DTEND;TZID=America/Regina:20240307T170000
DTSTAMP:20260420T005118
CREATED:20240214T172148Z
LAST-MODIFIED:20240214T172148Z
UID:10000663-1709820000-1709830800@portal.sassk.ca
SUMMARY:Engaging Men in Conversation about Family Violence to Manage Risk and Promote Safety
DESCRIPTION:This course would be ideal for a service provider who currently works with family\, individuals and/or specialized treatment setting for men who cause harm (men’s behaviour change programs\, child welfare\, etc). It would also be beneficial for therapists and counsellors who wish to gain more in-depth knowledge on how to work with men who cause harm. There is an assumption that you will have some experience in a counselling or social work setting.  \n  \n1:00 PM- 4:00 PM SK TIME
URL:https://portal.sassk.ca/event/engaging-men-in-conversation-about-family-violence-to-manage-risk-and-promote-safety/2024-03-07/
LOCATION:Virtual
ATTACH;FMTTYPE=image/png:https://portal.sassk.ca/wp-content/uploads/2023/08/learning-network.png
END:VEVENT
BEGIN:VEVENT
DTSTART;TZID=America/Regina:20240311T140000
DTEND;TZID=America/Regina:20240311T153000
DTSTAMP:20260420T005118
CREATED:20240222T205352Z
LAST-MODIFIED:20240222T205352Z
UID:10000876-1710165600-1710171000@portal.sassk.ca
SUMMARY:Moose Hide Campaign 2024
DESCRIPTION:Join the Movement to End Violence! Saskatchewan training and collaboration opportunity.
URL:https://portal.sassk.ca/event/moose-hide-campaign-2024/
LOCATION:Virtual
ATTACH;FMTTYPE=image/jpeg:https://portal.sassk.ca/wp-content/uploads/2023/09/STOPS_horizontal_2020.jpg
END:VEVENT
BEGIN:VEVENT
DTSTART;TZID=America/Regina:20240320T170000
DTEND;TZID=America/Regina:20240320T200000
DTSTAMP:20260420T005118
CREATED:20240214T172628Z
LAST-MODIFIED:20240214T172628Z
UID:10000665-1710954000-1710964800@portal.sassk.ca
SUMMARY:Supporting and Advocating for Survivors Who are Navigating the Criminal Justice System
DESCRIPTION:IPV specialists know that criminal court systems often exacerbate trauma and risk associated with IPV. They understand that when survivors are knowledgeable about legislation\, legal frameworks\, and procedures specific to their needs and probable outcomes\, they are more likely to feel competent and empowered in their actions. They also know that their role is often to advocate with and for survivor clients who deserve trauma and violence-informed responses that recognize and address risk of ongoing and potentially lethal IPV.
URL:https://portal.sassk.ca/event/supporting-and-advocating-for-survivors-who-are-navigating-the-criminal-justice-system/2024-03-20/
LOCATION:Virtual
ATTACH;FMTTYPE=image/png:https://portal.sassk.ca/wp-content/uploads/2023/08/learning-network.png
END:VEVENT
BEGIN:VEVENT
DTSTART;TZID=America/Regina:20240321T080000
DTEND;TZID=America/Regina:20240321T170000
DTSTAMP:20260420T005118
CREATED:20240214T172148Z
LAST-MODIFIED:20240214T172148Z
UID:10000664-1711008000-1711040400@portal.sassk.ca
SUMMARY:Engaging Men in Conversation about Family Violence to Manage Risk and Promote Safety
DESCRIPTION:This course would be ideal for a service provider who currently works with family\, individuals and/or specialized treatment setting for men who cause harm (men’s behaviour change programs\, child welfare\, etc). It would also be beneficial for therapists and counsellors who wish to gain more in-depth knowledge on how to work with men who cause harm. There is an assumption that you will have some experience in a counselling or social work setting.  \n  \n1:00 PM- 4:00 PM SK TIME
URL:https://portal.sassk.ca/event/engaging-men-in-conversation-about-family-violence-to-manage-risk-and-promote-safety/2024-03-21/
LOCATION:Virtual
ATTACH;FMTTYPE=image/png:https://portal.sassk.ca/wp-content/uploads/2023/08/learning-network.png
END:VEVENT
BEGIN:VEVENT
DTSTART;TZID=America/Regina:20240327T170000
DTEND;TZID=America/Regina:20240327T200000
DTSTAMP:20260420T005118
CREATED:20240214T172628Z
LAST-MODIFIED:20240214T172628Z
UID:10000666-1711558800-1711569600@portal.sassk.ca
SUMMARY:Supporting and Advocating for Survivors Who are Navigating the Criminal Justice System
DESCRIPTION:IPV specialists know that criminal court systems often exacerbate trauma and risk associated with IPV. They understand that when survivors are knowledgeable about legislation\, legal frameworks\, and procedures specific to their needs and probable outcomes\, they are more likely to feel competent and empowered in their actions. They also know that their role is often to advocate with and for survivor clients who deserve trauma and violence-informed responses that recognize and address risk of ongoing and potentially lethal IPV.
URL:https://portal.sassk.ca/event/supporting-and-advocating-for-survivors-who-are-navigating-the-criminal-justice-system/2024-03-27/
LOCATION:Virtual
ATTACH;FMTTYPE=image/png:https://portal.sassk.ca/wp-content/uploads/2023/08/learning-network.png
END:VEVENT
END:VCALENDAR